View In:
ArcGIS JavaScript
ArcGIS Online Map Viewer
ArcGIS Earth
Service Description: The National Institute of Water and Atmospheric Research Limited (NIWA) contracted Landpro Ltd to capture imagery over storm damaged sites in the Northland region as part of the North Island Weather Event (NIWE) project.
Capture was completed between 13th Nov 2023 and 12th July 2024.
Data comprises:
• 1093 ortho-rectified RGB GeoTIFF images in NZTM projection, tiled into the LINZ Standard 1:5000 tile layout.
• Tile layout in NZTM projection containing relevant information.
Name: Northland_2023_2024
Description: The National Institute of Water and Atmospheric Research Limited (NIWA) contracted Landpro Ltd to capture imagery over storm damaged sites in the Northland region as part of the North Island Weather Event (NIWE) project.
Capture was completed between 13th Nov 2023 and 12th July 2024.
Data comprises:
• 1093 ortho-rectified RGB GeoTIFF images in NZTM projection, tiled into the LINZ Standard 1:5000 tile layout.
• Tile layout in NZTM projection containing relevant information.
Single Fused Map Cache: false
Extent:
XMin: 1667884.9000000001
YMin: 6005475.0
XMax: 1743705.1
YMax: 6092770.8
Spatial Reference: 2193
(2193)
LatestVCSWkid(0)
Initial Extent:
XMin: 1667884.9000000001
YMin: 6005475.0
XMax: 1743705.1
YMax: 6092770.8
Spatial Reference: 2193
(2193)
LatestVCSWkid(0)
Full Extent:
XMin: 1667884.9000000001
YMin: 6005475.0
XMax: 1743705.1
YMax: 6092770.8
Spatial Reference: 2193
(2193)
LatestVCSWkid(0)
Pixel Size X: 0.2999999999999998
Pixel Size Y: 0.2999999999999994
Band Count: 3
Pixel Type: U8
RasterFunction Infos: {"rasterFunctionInfos": [
{
"name": "None",
"description": "Make a Raster or Raster Dataset into a Function Raster Dataset.",
"help": ""
},
{
"name": "None",
"description": "Make a Raster or Raster Dataset into a Function Raster Dataset.",
"help": ""
}
]}
Mensuration Capabilities: None
Inspection Capabilities:
Has Histograms: true
Has Colormap: false
Has Multi Dimensions : false
Rendering Rule:
Min Scale: 0
Max Scale: 0
Resampling: false
Copyright Text: Sourced from the LINZ Data Service and licensed for reuse under the CC BY 4.0 licence
Service Data Type: esriImageServiceDataTypeProcessed
Min Values: 0, 23, 34
Max Values: 255, 255, 245
Mean Values: 75.74651035904184, 97.72244282444998, 83.17045058425947
Standard Deviation Values: 30.725614368964926, 28.454250802317876, 16.08603552718928
Object ID Field: OBJECTID
Fields:
-
OBJECTID
(
type: esriFieldTypeOID, alias: OBJECTID
)
-
Shape
(
type: esriFieldTypeGeometry, alias: Shape
)
-
Name
(
type: esriFieldTypeString, alias: Name, length: 200
)
-
MinPS
(
type: esriFieldTypeDouble, alias: MinPS
)
-
MaxPS
(
type: esriFieldTypeDouble, alias: MaxPS
)
-
LowPS
(
type: esriFieldTypeDouble, alias: LowPS
)
-
HighPS
(
type: esriFieldTypeDouble, alias: HighPS
)
-
Category
(
type: esriFieldTypeInteger, alias: Category
, Coded Values:
[0: Unknown]
, [1: Primary]
, [2: Overview]
, ...6 more...
)
-
Tag
(
type: esriFieldTypeString, alias: Tag, length: 100
)
-
GroupName
(
type: esriFieldTypeString, alias: GroupName, length: 100
)
-
ProductName
(
type: esriFieldTypeString, alias: ProductName, length: 100
)
-
CenterX
(
type: esriFieldTypeDouble, alias: CenterX
)
-
CenterY
(
type: esriFieldTypeDouble, alias: CenterY
)
-
ZOrder
(
type: esriFieldTypeInteger, alias: ZOrder
)
-
Shape_Length
(
type: esriFieldTypeDouble, alias: Shape_Length
)
-
Shape_Area
(
type: esriFieldTypeDouble, alias: Shape_Area
)
Default Mosaic Method: Northwest
Allowed Mosaic Methods: NorthWest,Center,LockRaster,ByAttribute,Nadir,Viewpoint,Seamline,None
SortField:
SortValue: null
Mosaic Operator: First
Default Compression Quality: 80
Default Resampling Method: Bilinear
Max Record Count: 1000
Max Image Height: 4100
Max Image Width: 15000
Max Download Image Count: 20
Max Mosaic Image Count: 20
Allow Raster Function: true
Allow Copy: true
Allow Analysis: true
Allow Compute TiePoints: false
Supports Statistics: true
Supports Advanced Queries: true
Use StandardizedQueries: true
Raster Type Infos:
Name: Raster Dataset
Description: Supports all ArcGIS Raster Datasets
Help:
Has Raster Attribute Table: false
Edit Fields Info: null
Ownership Based AccessControl For Rasters: null
Child Resources:
Info
Histograms
Statistics
Key Properties
Legend
Raster Function Infos
Supported Operations:
Export Image
Query
Identify
Compute Histograms
Compute Statistics Histograms
Get Samples
Compute Class Statistics
Query GPS Info
Find Images
Image to Map
Map to Image
Measure from Image
Image to Map Multiray
Query Boundary
Compute Pixel Location
Compute Angles
Validate
Project