{ "currentVersion": 11.5, "serviceDescription": "

The National Institute of Water and Atmospheric Research Limited (NIWA) contracted Landpro Ltd to capture imagery over storm damaged sites in the Northland region as part of the North Island Weather Event (NIWE) project.<\/p>
Capture was completed between 13th Nov 2023 and 12th July 2024.<\/p>
Data comprises:<\/span><\/p>
\u2022 1093 ortho-rectified RGB GeoTIFF images in NZTM projection, tiled into the LINZ Standard 1:5000 tile layout.
\u2022 Tile layout in NZTM projection containing relevant information.<\/p>", "serviceItemId": "0bf220509d1f477ab633ac1a17d3f579", "name": "Northland_2023_2024", "description": "

The National Institute of Water and Atmospheric Research Limited (NIWA) contracted Landpro Ltd to capture imagery over storm damaged sites in the Northland region as part of the North Island Weather Event (NIWE) project.<\/p>
Capture was completed between 13th Nov 2023 and 12th July 2024.<\/p>
Data comprises:<\/span><\/p>
\u2022 1093 ortho-rectified RGB GeoTIFF images in NZTM projection, tiled into the LINZ Standard 1:5000 tile layout.
\u2022 Tile layout in NZTM projection containing relevant information.<\/p>", "extent": { "xmin": 1667884.9000000001, "ymin": 6005475, "xmax": 1743705.1, "ymax": 6092770.8, "spatialReference": { "wkid": 2193, "latestWkid": 2193 } }, "initialExtent": { "xmin": 1667884.9000000001, "ymin": 6005475, "xmax": 1743705.1, "ymax": 6092770.8, "spatialReference": { "wkid": 2193, "latestWkid": 2193 } }, "fullExtent": { "xmin": 1667884.9000000001, "ymin": 6005475, "xmax": 1743705.1, "ymax": 6092770.8, "spatialReference": { "wkid": 2193, "latestWkid": 2193 } }, "sortableFields": "MinPS,MaxPS,LowPS,HighPS,CenterX,CenterY,ZOrder,Shape_Length,Shape_Area", "bandCount": 3, "pixelType": "U8", "minValues": [ 0, 23, 34 ], "maxValues": [ 255, 255, 245 ], "meanValues": [ 75.74651035904184, 97.72244282444998, 83.17045058425947 ], "stdvValues": [ 30.725614368964926, 28.454250802317876, 16.08603552718928 ], "serviceProperties": "NorthWest<\/MosaicMethod>First<\/MosaicOperator>true<\/SortAscending><\/LockImageID>Name<\/TileOrderField>0<\/TileOrderBase>600.000000<\/AvgImageSpacingX>300.000000<\/AvgImageSpacingY>0.0<\/ViewPointX>0.0<\/ViewPointY>0.0<\/ViewPointDefShiftX>0.0<\/ViewPointDefShiftY>JPEG<\/CompressionMethod>80<\/CompressionQuality>0.010000<\/CompressionTolerance>Bilinear<\/SamplingMethod><\/ImageServiceProperties><\/ImageServer>", "allowedFields": "Name,MinPS,MaxPS,LowPS,HighPS,Tag,GroupName,ProductName,CenterX,CenterY,ZOrder,Shape_Length,Shape_Area", "hasMultidimensions": false, "pixelSizeX": 0.2999999999999998, "pixelSizeY": 0.2999999999999994, "meanPixelSize": 0.2999999999999996, "datasetFormat": "AMD", "uncompressedSize": 220626167172, "blockWidth": 2048, "blockHeight": 256, "compressionType": "None", "bandNames": [ "Red", "Green", "Blue" ], "allowCopy": true, "allowAnalysis": true, "itemAccess": false, "inspectionCapabilities": "", "minPixelSize": 0, "maxPixelSize": 0, "copyrightText": "Sourced from the LINZ Data Service and licensed for reuse under the CC BY 4.0 licence", "serviceDataType": "esriImageServiceDataTypeProcessed", "serviceSourceType": "esriImageServiceSourceTypeMosaicDataset", "objectIdField": "OBJECTID", "fields": [ { "name": "OBJECTID", "type": "esriFieldTypeOID", "alias": "OBJECTID", "domain": null }, { "name": "Shape", "type": "esriFieldTypeGeometry", "alias": "Shape", "domain": null }, { "name": "Name", "type": "esriFieldTypeString", "alias": "Name", "domain": null, "length": 200 }, { "name": "MinPS", "type": "esriFieldTypeDouble", "alias": "MinPS", "domain": null }, { "name": "MaxPS", "type": "esriFieldTypeDouble", "alias": "MaxPS", "domain": null }, { "name": "LowPS", "type": "esriFieldTypeDouble", "alias": "LowPS", "domain": null }, { "name": "HighPS", "type": "esriFieldTypeDouble", "alias": "HighPS", "domain": null }, { "name": "Category", "type": "esriFieldTypeInteger", "alias": "Category", "domain": { "type": "codedValue", "name": "MosaicCatalogItemCategoryDomain", "description": "Catalog item categories.", "codedValues": [ { "name": "Unknown", "code": 0 }, { "name": "Primary", "code": 1 }, { "name": "Overview", "code": 2 }, { "name": "Unprocessed Overview", "code": 3 }, { "name": "Partial Overview", "code": 4 }, { "name": "Inactive", "code": 5 }, { "name": "Uploaded", "code": 253 }, { "name": "Incomplete", "code": 254 }, { "name": "Custom", "code": 255 } ], "mergePolicy": "esriMPTDefaultValue", "splitPolicy": "esriSPTDefaultValue" } }, { "name": "Tag", "type": "esriFieldTypeString", "alias": "Tag", "domain": null, "length": 100 }, { "name": "GroupName", "type": "esriFieldTypeString", "alias": "GroupName", "domain": null, "length": 100 }, { "name": "ProductName", "type": "esriFieldTypeString", "alias": "ProductName", "domain": null, "length": 100 }, { "name": "CenterX", "type": "esriFieldTypeDouble", "alias": "CenterX", "domain": null }, { "name": "CenterY", "type": "esriFieldTypeDouble", "alias": "CenterY", "domain": null }, { "name": "ZOrder", "type": "esriFieldTypeInteger", "alias": "ZOrder", "domain": null }, { "name": "Shape_Length", "type": "esriFieldTypeDouble", "alias": "Shape_Length", "domain": null }, { "name": "Shape_Area", "type": "esriFieldTypeDouble", "alias": "Shape_Area", "domain": null } ], "capabilities": "Catalog,Image,Metadata", "defaultMosaicMethod": "Northwest", "allowedMosaicMethods": "NorthWest,Center,LockRaster,ByAttribute,Nadir,Viewpoint,Seamline,None", "sortField": "", "sortValue": null, "sortAscending": true, "mosaicOperator": "First", "maxDownloadSizeLimit": 2048, "defaultCompressionQuality": 80, "defaultResamplingMethod": "Bilinear", "maxImageHeight": 4100, "maxImageWidth": 15000, "maxRecordCount": 1000, "maxDownloadImageCount": 20, "maxMosaicImageCount": 20, "allowRasterFunction": true, "rasterFunctionInfos": [ { "name": "None", "description": "Make a Raster or Raster Dataset into a Function Raster Dataset.", "help": "" }, { "name": "None", "description": "Make a Raster or Raster Dataset into a Function Raster Dataset.", "help": "" } ], "rasterTypeInfos": [ { "name": "Raster Dataset", "description": "Supports all ArcGIS Raster Datasets", "help": "" } ], "mensurationCapabilities": "None", "hasHistograms": true, "hasColormap": false, "hasRasterAttributeTable": false, "minScale": 0, "maxScale": 0, "exportTilesAllowed": false, "supportsStatistics": true, "supportsAdvancedQueries": true, "editFieldsInfo": null, "ownershipBasedAccessControlForRasters": null, "allowComputeTiePoints": false, "useStandardizedQueries": true, "advancedQueryCapabilities": { "useStandardizedQueries": true, "supportsStatistics": true, "supportsOrderBy": true, "supportsDistinct": true, "supportsPagination": true }, "spatialReference": { "wkid": 2193, "latestWkid": 2193 }, "resampling": false }